BEGIN:VCALENDAR
VERSION:2.0
PRODID:-//XRX Amateur Radio Club - ECPv6.15.20//NONSGML v1.0//EN
CALSCALE:GREGORIAN
METHOD:PUBLISH
X-WR-CALNAME:XRX Amateur Radio Club
X-ORIGINAL-URL:https://xarc.us
X-WR-CALDESC:Events for XRX Amateur Radio Club
REFRESH-INTERVAL;VALUE=DURATION:PT1H
X-Robots-Tag:noindex
X-PUBLISHED-TTL:PT1H
BEGIN:VTIMEZONE
TZID:America/New_York
BEGIN:DAYLIGHT
TZOFFSETFROM:-0500
TZOFFSETTO:-0400
TZNAME:EDT
DTSTART:20250309T070000
END:DAYLIGHT
BEGIN:STANDARD
TZOFFSETFROM:-0400
TZOFFSETTO:-0500
TZNAME:EST
DTSTART:20251102T060000
END:STANDARD
BEGIN:DAYLIGHT
TZOFFSETFROM:-0500
TZOFFSETTO:-0400
TZNAME:EDT
DTSTART:20260308T070000
END:DAYLIGHT
BEGIN:STANDARD
TZOFFSETFROM:-0400
TZOFFSETTO:-0500
TZNAME:EST
DTSTART:20261101T060000
END:STANDARD
BEGIN:DAYLIGHT
TZOFFSETFROM:-0500
TZOFFSETTO:-0400
TZNAME:EDT
DTSTART:20270314T070000
END:DAYLIGHT
BEGIN:STANDARD
TZOFFSETFROM:-0400
TZOFFSETTO:-0500
TZNAME:EST
DTSTART:20271107T060000
END:STANDARD
END:VTIMEZONE
BEGIN:VEVENT
DTSTART;TZID=America/New_York:20260312T190000
DTEND;TZID=America/New_York:20260312T210000
DTSTAMP:20260422T130238
CREATED:20251117T175636Z
LAST-MODIFIED:20260221T214029Z
UID:4912-1773342000-1773349200@xarc.us
SUMMARY:March General Meeting
DESCRIPTION:Our March 2026 General Meeting \n\n\n\nPresentation by K2AS on using N1MM Logging Program for CW Contesting \n\n\n\n\n\n\n\n\n\n\nLike this:Like Loading...
URL:https://xarc.us/event/march-general-meeting/
LOCATION:Webster Rec Center\, 1350 Chiyoda Dr.\, Webster\, NY\, 14580\, United States
CATEGORIES:General Meeting
END:VEVENT
END:VCALENDAR