BEGIN:VCALENDAR
VERSION:2.0
PRODID:-//XRX Amateur Radio Club - ECPv6.15.20//NONSGML v1.0//EN
CALSCALE:GREGORIAN
METHOD:PUBLISH
X-ORIGINAL-URL:https://xarc.us
X-WR-CALDESC:Events for XRX Amateur Radio Club
REFRESH-INTERVAL;VALUE=DURATION:PT1H
X-Robots-Tag:noindex
X-PUBLISHED-TTL:PT1H
BEGIN:VTIMEZONE
TZID:America/New_York
BEGIN:DAYLIGHT
TZOFFSETFROM:-0500
TZOFFSETTO:-0400
TZNAME:EDT
DTSTART:20250309T070000
END:DAYLIGHT
BEGIN:STANDARD
TZOFFSETFROM:-0400
TZOFFSETTO:-0500
TZNAME:EST
DTSTART:20251102T060000
END:STANDARD
BEGIN:DAYLIGHT
TZOFFSETFROM:-0500
TZOFFSETTO:-0400
TZNAME:EDT
DTSTART:20260308T070000
END:DAYLIGHT
BEGIN:STANDARD
TZOFFSETFROM:-0400
TZOFFSETTO:-0500
TZNAME:EST
DTSTART:20261101T060000
END:STANDARD
BEGIN:DAYLIGHT
TZOFFSETFROM:-0500
TZOFFSETTO:-0400
TZNAME:EDT
DTSTART:20270314T070000
END:DAYLIGHT
BEGIN:STANDARD
TZOFFSETFROM:-0400
TZOFFSETTO:-0500
TZNAME:EST
DTSTART:20271107T060000
END:STANDARD
END:VTIMEZONE
BEGIN:VEVENT
DTSTART;TZID=America/New_York:20260611T190000
DTEND;TZID=America/New_York:20260611T210000
DTSTAMP:20260422T183354
CREATED:20251117T175809Z
LAST-MODIFIED:20251117T180100Z
UID:4914-1781204400-1781211600@xarc.us
SUMMARY:June General Meeting
DESCRIPTION:June 2026 General Meeting \n\n\n\n\n\n\n\n\n\n\nLike this:Like Loading...
URL:https://xarc.us/event/june-general-meeting/
LOCATION:Webster Rec Center\, 1350 Chiyoda Dr.\, Webster\, NY\, 14580\, United States
CATEGORIES:General Meeting
END:VEVENT
BEGIN:VEVENT
DTSTART;TZID=America/New_York:20260626T100000
DTEND;TZID=America/New_York:20260628T153000
DTSTAMP:20260422T183354
CREATED:20251117T180030Z
LAST-MODIFIED:20251117T180032Z
UID:4916-1782468000-1782660600@xarc.us
SUMMARY:2026 Field Day
DESCRIPTION:2026 ARRL Field Day \n\n\n\n\n\n\n\n\n\n\nLike this:Like Loading...
URL:https://xarc.us/event/2026-field-day/
CATEGORIES:Contest
END:VEVENT
END:VCALENDAR