BEGIN:VCALENDAR
VERSION:2.0
PRODID:-//XRX Amateur Radio Club - ECPv6.15.20//NONSGML v1.0//EN
CALSCALE:GREGORIAN
METHOD:PUBLISH
X-WR-CALNAME:XRX Amateur Radio Club
X-ORIGINAL-URL:https://xarc.us
X-WR-CALDESC:Events for XRX Amateur Radio Club
REFRESH-INTERVAL;VALUE=DURATION:PT1H
X-Robots-Tag:noindex
X-PUBLISHED-TTL:PT1H
BEGIN:VTIMEZONE
TZID:America/New_York
BEGIN:DAYLIGHT
TZOFFSETFROM:-0500
TZOFFSETTO:-0400
TZNAME:EDT
DTSTART:20240310T070000
END:DAYLIGHT
BEGIN:STANDARD
TZOFFSETFROM:-0400
TZOFFSETTO:-0500
TZNAME:EST
DTSTART:20241103T060000
END:STANDARD
BEGIN:DAYLIGHT
TZOFFSETFROM:-0500
TZOFFSETTO:-0400
TZNAME:EDT
DTSTART:20250309T070000
END:DAYLIGHT
BEGIN:STANDARD
TZOFFSETFROM:-0400
TZOFFSETTO:-0500
TZNAME:EST
DTSTART:20251102T060000
END:STANDARD
BEGIN:DAYLIGHT
TZOFFSETFROM:-0500
TZOFFSETTO:-0400
TZNAME:EDT
DTSTART:20260308T070000
END:DAYLIGHT
BEGIN:STANDARD
TZOFFSETFROM:-0400
TZOFFSETTO:-0500
TZNAME:EST
DTSTART:20261101T060000
END:STANDARD
END:VTIMEZONE
BEGIN:VEVENT
DTSTART;TZID=America/New_York:20251211T190000
DTEND;TZID=America/New_York:20251211T210000
DTSTAMP:20260422T203511
CREATED:20251117T165724Z
LAST-MODIFIED:20251117T180117Z
UID:4908-1765479600-1765486800@xarc.us
SUMMARY:December 2025 General Meeting
DESCRIPTION:Our December meeting.  Elections\, treasury report\, repeater news\, events\, show and tell. \n\n\n\n\n\n\n\n\n\n\nLike this:Like Loading...
URL:https://xarc.us/event/december-2025-general-meeting/
LOCATION:Webster Rec Center\, 1350 Chiyoda Dr.\, Webster\, NY\, 14580\, United States
CATEGORIES:General Meeting
END:VEVENT
END:VCALENDAR