BEGIN:VCALENDAR
VERSION:2.0
PRODID:-//XRX Amateur Radio Club - ECPv6.15.20//NONSGML v1.0//EN
CALSCALE:GREGORIAN
METHOD:PUBLISH
X-ORIGINAL-URL:https://xarc.us
X-WR-CALDESC:Events for XRX Amateur Radio Club
REFRESH-INTERVAL;VALUE=DURATION:PT1H
X-Robots-Tag:noindex
X-PUBLISHED-TTL:PT1H
BEGIN:VTIMEZONE
TZID:America/New_York
BEGIN:DAYLIGHT
TZOFFSETFROM:-0500
TZOFFSETTO:-0400
TZNAME:EDT
DTSTART:20240310T070000
END:DAYLIGHT
BEGIN:STANDARD
TZOFFSETFROM:-0400
TZOFFSETTO:-0500
TZNAME:EST
DTSTART:20241103T060000
END:STANDARD
BEGIN:DAYLIGHT
TZOFFSETFROM:-0500
TZOFFSETTO:-0400
TZNAME:EDT
DTSTART:20250309T070000
END:DAYLIGHT
BEGIN:STANDARD
TZOFFSETFROM:-0400
TZOFFSETTO:-0500
TZNAME:EST
DTSTART:20251102T060000
END:STANDARD
BEGIN:DAYLIGHT
TZOFFSETFROM:-0500
TZOFFSETTO:-0400
TZNAME:EDT
DTSTART:20260308T070000
END:DAYLIGHT
BEGIN:STANDARD
TZOFFSETFROM:-0400
TZOFFSETTO:-0500
TZNAME:EST
DTSTART:20261101T060000
END:STANDARD
END:VTIMEZONE
BEGIN:VEVENT
DTSTART;TZID=America/New_York:20250628T103000
DTEND;TZID=America/New_York:20250629T153000
DTSTAMP:20260423T064639
CREATED:20250612T161814Z
LAST-MODIFIED:20250612T163043Z
UID:4751-1751106600-1751211000@xarc.us
SUMMARY:Field Day 2025
DESCRIPTION:ARRL Field Day – XARC and Monroe County ARES/RACES will be operating again for Field Day.  Some setup Friday at 10AM.  Finish setup Saturday at 10:30 AM.  Event starts at 2 PM until 2PM Sunday with takedown immediately following. \n\n\n\nhttps://maps.app.goo.gl/pD5nHXFTTs3gmgYTA \n\n\n\n\n\n\n\n\n\n\nLike this:Like Loading...
URL:https://xarc.us/event/field-day-2025/
LOCATION:Kent Park\, 1700 Schlegel Road\, Webster\, New York\, 14580\, United States
CATEGORIES:Contest
END:VEVENT
END:VCALENDAR